BEGIN:VCALENDAR
VERSION:2.0
PRODID:-//Visit Foley - ECPv6.15.20//NONSGML v1.0//EN
CALSCALE:GREGORIAN
METHOD:PUBLISH
X-WR-CALNAME:Visit Foley
X-ORIGINAL-URL:https://visitfoley.com
X-WR-CALDESC:Events for Visit Foley
REFRESH-INTERVAL;VALUE=DURATION:PT1H
X-Robots-Tag:noindex
X-PUBLISHED-TTL:PT1H
BEGIN:VTIMEZONE
TZID:America/Chicago
BEGIN:DAYLIGHT
TZOFFSETFROM:-0600
TZOFFSETTO:-0500
TZNAME:CDT
DTSTART:20250309T080000
END:DAYLIGHT
BEGIN:STANDARD
TZOFFSETFROM:-0500
TZOFFSETTO:-0600
TZNAME:CST
DTSTART:20251102T070000
END:STANDARD
BEGIN:DAYLIGHT
TZOFFSETFROM:-0600
TZOFFSETTO:-0500
TZNAME:CDT
DTSTART:20260308T080000
END:DAYLIGHT
BEGIN:STANDARD
TZOFFSETFROM:-0500
TZOFFSETTO:-0600
TZNAME:CST
DTSTART:20261101T070000
END:STANDARD
BEGIN:DAYLIGHT
TZOFFSETFROM:-0600
TZOFFSETTO:-0500
TZNAME:CDT
DTSTART:20270314T080000
END:DAYLIGHT
BEGIN:STANDARD
TZOFFSETFROM:-0500
TZOFFSETTO:-0600
TZNAME:CST
DTSTART:20271107T070000
END:STANDARD
END:VTIMEZONE
BEGIN:VEVENT
DTSTART;TZID=America/Chicago:20260508T190000
DTEND;TZID=America/Chicago:20260508T190000
DTSTAMP:20260425T120832
CREATED:20260323T142954Z
LAST-MODIFIED:20260323T142954Z
UID:10001867-1778266800-1778266800@visitfoley.com
SUMMARY:White Tie Rock Ensemble Presents: Bohemian Stardust
DESCRIPTION:White Tie Rock Ensemble Presents: Bohemian Stardust arrives at OWA Theater on May 8th and 9th\, celebrating the music of Queen and David Bowie through a powerful symphonic rock performance. Known for recreating classic rock with the precision and detail of a symphony\, the White Tie Rock Ensemble brings a fresh dimension to some of the most influential songs in music history. \nBohemian Stardust delivers two unforgettable nights that honor legendary catalogs with bold sound and striking presentation\, only at OWA Theater!
URL:https://visitfoley.com/event/white-tie-rock-ensemble-presents-bohemian-stardust/2026-05-08/
LOCATION:OWA Theater\, 205 N. OWA Blvd.\, Foley\, AL\, 36535\, United States
CATEGORIES:Music,OWA
ATTACH;FMTTYPE=image/jpeg:https://visitfoley.com/wp-content/uploads/WTRE-Bohemian-Stardust_Web_Thumbnail-1024x876-1.jpg
END:VEVENT
BEGIN:VEVENT
DTSTART;TZID=America/Chicago:20260509T190000
DTEND;TZID=America/Chicago:20260509T190000
DTSTAMP:20260425T120832
CREATED:20260323T142954Z
LAST-MODIFIED:20260323T142954Z
UID:10001868-1778353200-1778353200@visitfoley.com
SUMMARY:White Tie Rock Ensemble Presents: Bohemian Stardust
DESCRIPTION:White Tie Rock Ensemble Presents: Bohemian Stardust arrives at OWA Theater on May 8th and 9th\, celebrating the music of Queen and David Bowie through a powerful symphonic rock performance. Known for recreating classic rock with the precision and detail of a symphony\, the White Tie Rock Ensemble brings a fresh dimension to some of the most influential songs in music history. \nBohemian Stardust delivers two unforgettable nights that honor legendary catalogs with bold sound and striking presentation\, only at OWA Theater!
URL:https://visitfoley.com/event/white-tie-rock-ensemble-presents-bohemian-stardust/2026-05-09/
LOCATION:OWA Theater\, 205 N. OWA Blvd.\, Foley\, AL\, 36535\, United States
CATEGORIES:Music,OWA
ATTACH;FMTTYPE=image/jpeg:https://visitfoley.com/wp-content/uploads/WTRE-Bohemian-Stardust_Web_Thumbnail-1024x876-1.jpg
END:VEVENT
END:VCALENDAR