BEGIN:VCALENDAR
VERSION:2.0
PRODID:-//Visit Foley - ECPv6.15.20//NONSGML v1.0//EN
CALSCALE:GREGORIAN
METHOD:PUBLISH
X-WR-CALNAME:Visit Foley
X-ORIGINAL-URL:https://visitfoley.com
X-WR-CALDESC:Events for Visit Foley
REFRESH-INTERVAL;VALUE=DURATION:PT1H
X-Robots-Tag:noindex
X-PUBLISHED-TTL:PT1H
BEGIN:VTIMEZONE
TZID:America/Chicago
BEGIN:DAYLIGHT
TZOFFSETFROM:-0600
TZOFFSETTO:-0500
TZNAME:CDT
DTSTART:20250309T080000
END:DAYLIGHT
BEGIN:STANDARD
TZOFFSETFROM:-0500
TZOFFSETTO:-0600
TZNAME:CST
DTSTART:20251102T070000
END:STANDARD
BEGIN:DAYLIGHT
TZOFFSETFROM:-0600
TZOFFSETTO:-0500
TZNAME:CDT
DTSTART:20260308T080000
END:DAYLIGHT
BEGIN:STANDARD
TZOFFSETFROM:-0500
TZOFFSETTO:-0600
TZNAME:CST
DTSTART:20261101T070000
END:STANDARD
BEGIN:DAYLIGHT
TZOFFSETFROM:-0600
TZOFFSETTO:-0500
TZNAME:CDT
DTSTART:20270314T080000
END:DAYLIGHT
BEGIN:STANDARD
TZOFFSETFROM:-0500
TZOFFSETTO:-0600
TZNAME:CST
DTSTART:20271107T070000
END:STANDARD
END:VTIMEZONE
BEGIN:VEVENT
DTSTART;TZID=America/Chicago:20260521T170000
DTEND;TZID=America/Chicago:20260521T190000
DTSTAMP:20260421T021601
CREATED:20260323T140956Z
LAST-MODIFIED:20260323T140956Z
UID:10001856-1779382800-1779390000@visitfoley.com
SUMMARY:Foley Main Street Third Thursdays
DESCRIPTION:More than just a fun night out\, your presence in Downtown Foley is an investment in our downtown’s  future. Supporting our local businesses keeps the heart of Foley beating\, ensuring that our unique boutiques and family-owned eateries will continue to thrive.  From 5 to 7 our businesses stay open for your convenience and some fun.  Every Third Thursday! Come join us! \nFor all specials follow this link:  https://downtown-foley-third-thursdays-25323.grwebsite.com/ \nFor more information contact Foley Main Street at info@foleymainstreet.com
URL:https://visitfoley.com/event/foley-main-street-third-thursdays-2/
LOCATION:Downtown Foley\, 104 N McKenzie St\, Foley\, AL\, 36535\, United States
CATEGORIES:City of Foley,Downtown Foley
ATTACH;FMTTYPE=image/png:https://visitfoley.com/wp-content/uploads/2026-May-Third-Thursday-.png
END:VEVENT
BEGIN:VEVENT
DTSTART;TZID=America/Chicago:20260618T170000
DTEND;TZID=America/Chicago:20260618T190000
DTSTAMP:20260421T021601
CREATED:20260323T141105Z
LAST-MODIFIED:20260323T141105Z
UID:10001857-1781802000-1781809200@visitfoley.com
SUMMARY:Foley Main Street Third Thursdays
DESCRIPTION:More than just a fun night out\, your presence in Downtown Foley is an investment in our downtown’s  future. Supporting our local businesses keeps the heart of Foley beating\, ensuring that our unique boutiques and family-owned eateries will continue to thrive.  From 5 to 7 our businesses stay open for your convenience and some fun.  Every Third Thursday! Come join us! \nFor all specials follow this link:  https://downtown-foley-third-thursdays-25323.grwebsite.com/ \nFor more information contact Foley Main Street at info@foleymainstreet.com
URL:https://visitfoley.com/event/foley-main-street-third-thursdays-3/
LOCATION:Downtown Foley\, 104 N McKenzie St\, Foley\, AL\, 36535\, United States
CATEGORIES:City of Foley,Downtown Foley
ATTACH;FMTTYPE=image/png:https://visitfoley.com/wp-content/uploads/2026-June-Third-Thursday-.png
END:VEVENT
BEGIN:VEVENT
DTSTART;TZID=America/Chicago:20260716T170000
DTEND;TZID=America/Chicago:20260716T190000
DTSTAMP:20260421T021601
CREATED:20260323T141208Z
LAST-MODIFIED:20260323T141208Z
UID:10001858-1784221200-1784228400@visitfoley.com
SUMMARY:Foley Main Street Third Thursdays
DESCRIPTION:More than just a fun night out\, your presence in Downtown Foley is an investment in our downtown’s  future. Supporting our local businesses keeps the heart of Foley beating\, ensuring that our unique boutiques and family-owned eateries will continue to thrive.  From 5 to 7 our businesses stay open for your convenience and some fun.  Every Third Thursday! Come join us! \nFor all specials follow this link:  https://downtown-foley-third-thursdays-25323.grwebsite.com/ \nFor more information contact Foley Main Street at info@foleymainstreet.com
URL:https://visitfoley.com/event/foley-main-street-third-thursdays-4/
LOCATION:Downtown Foley\, 104 N McKenzie St\, Foley\, AL\, 36535\, United States
CATEGORIES:City of Foley,Downtown Foley
ATTACH;FMTTYPE=image/png:https://visitfoley.com/wp-content/uploads/2026-JulyThird-Thursday-.png
END:VEVENT
BEGIN:VEVENT
DTSTART;TZID=America/Chicago:20260820T170000
DTEND;TZID=America/Chicago:20260820T190000
DTSTAMP:20260421T021601
CREATED:20260323T141305Z
LAST-MODIFIED:20260323T141305Z
UID:10001859-1787245200-1787252400@visitfoley.com
SUMMARY:Foley Main Street Third Thursdays
DESCRIPTION:More than just a fun night out\, your presence in Downtown Foley is an investment in our downtown’s  future. Supporting our local businesses keeps the heart of Foley beating\, ensuring that our unique boutiques and family-owned eateries will continue to thrive.  From 5 to 7 our businesses stay open for your convenience and some fun.  Every Third Thursday! Come join us! \nFor all specials follow this link:  https://downtown-foley-third-thursdays-25323.grwebsite.com/ \nFor more information contact Foley Main Street at info@foleymainstreet.com
URL:https://visitfoley.com/event/foley-main-street-third-thursdays-5/
LOCATION:Downtown Foley\, 104 N McKenzie St\, Foley\, AL\, 36535\, United States
CATEGORIES:City of Foley,Downtown Foley
ATTACH;FMTTYPE=image/png:https://visitfoley.com/wp-content/uploads/2026-August-Third-Thursday-.png
END:VEVENT
END:VCALENDAR