BEGIN:VCALENDAR
VERSION:2.0
PRODID:-//Visit Foley - ECPv6.15.20//NONSGML v1.0//EN
CALSCALE:GREGORIAN
METHOD:PUBLISH
X-WR-CALNAME:Visit Foley
X-ORIGINAL-URL:https://visitfoley.com
X-WR-CALDESC:Events for Visit Foley
REFRESH-INTERVAL;VALUE=DURATION:PT1H
X-Robots-Tag:noindex
X-PUBLISHED-TTL:PT1H
BEGIN:VTIMEZONE
TZID:America/Chicago
BEGIN:DAYLIGHT
TZOFFSETFROM:-0600
TZOFFSETTO:-0500
TZNAME:CDT
DTSTART:20230312T080000
END:DAYLIGHT
BEGIN:STANDARD
TZOFFSETFROM:-0500
TZOFFSETTO:-0600
TZNAME:CST
DTSTART:20231105T070000
END:STANDARD
BEGIN:DAYLIGHT
TZOFFSETFROM:-0600
TZOFFSETTO:-0500
TZNAME:CDT
DTSTART:20240310T080000
END:DAYLIGHT
BEGIN:STANDARD
TZOFFSETFROM:-0500
TZOFFSETTO:-0600
TZNAME:CST
DTSTART:20241103T070000
END:STANDARD
BEGIN:DAYLIGHT
TZOFFSETFROM:-0600
TZOFFSETTO:-0500
TZNAME:CDT
DTSTART:20250309T080000
END:DAYLIGHT
BEGIN:STANDARD
TZOFFSETFROM:-0500
TZOFFSETTO:-0600
TZNAME:CST
DTSTART:20251102T070000
END:STANDARD
BEGIN:DAYLIGHT
TZOFFSETFROM:-0600
TZOFFSETTO:-0500
TZNAME:CDT
DTSTART:20260308T080000
END:DAYLIGHT
BEGIN:STANDARD
TZOFFSETFROM:-0500
TZOFFSETTO:-0600
TZNAME:CST
DTSTART:20261101T070000
END:STANDARD
END:VTIMEZONE
BEGIN:VEVENT
DTSTART;TZID=America/Chicago:20251115T080000
DTEND;TZID=America/Chicago:20251115T110000
DTSTAMP:20260423T130758
CREATED:20251028T201116Z
LAST-MODIFIED:20251028T201116Z
UID:10001305-1763193600-1763204400@visitfoley.com
SUMMARY:Foley Oyster Run
DESCRIPTION:Mark your calendars for the 32nd annual Oyster Run!! Beer\, Oysters\, Pizza\, Gumbo and a 5k/ 1 mile Fun run all for Charity!!\nThis years run will be November 15th\, 2025\, and we will be running through downtown Foley!\n\nTickets\n\nWe can’t wait to see you all at the big race!!
URL:https://visitfoley.com/event/foley-oyster-run/
LOCATION:Downtown Foley\, 104 N McKenzie St\, Foley\, AL\, 36535\, United States
CATEGORIES:Charity,Run
ATTACH;FMTTYPE=image/jpeg:https://visitfoley.com/wp-content/uploads/504977194_1032322589010506_7644325780677191428_n-e1761682221457.jpg
END:VEVENT
BEGIN:VEVENT
DTSTART;TZID=America/Chicago:20251025T090000
DTEND;TZID=America/Chicago:20251025T120000
DTSTAMP:20260423T130758
CREATED:20240813T182717Z
LAST-MODIFIED:20251024T183843Z
UID:10000553-1761382800-1761393600@visitfoley.com
SUMMARY:Baldwin Heart Walk 2025
DESCRIPTION:Here’s the deal. It only takes a few steps to save lives. How incredible is that?\nJoin us for the 2025 Baldwin Heart Walk on Saturday\, Oct. 25. When you walk\, you not only help your own heart and mental well-being\, but you are also helping others. Simply put\, walking saves lives.\nGather friends\, family\, and co-workers to experience the joy of Heart Walk together. Hear the cheers at the finish line. See the smiles on the faces of inspiring survivors. Have fun and get your heart pumping!\nBegin your personal FUNdraiser to support lifesaving research. Research that leads to medical breakthroughs for improvements in healthcare. Research that puts the lifesaving power of CPR in more hands. Research that improves the quality of lives for survivors.\nAnd let the whole world know you’re walking. Share WHY you walk in a comment below\, and across all your social networks. Save lives. Help fund lifesaving research to eliminate heart disease and stroke. Experience the joy of Heart Walk with friends\, family\, co-workers\, and survivors. Boost your health and well-being.\nREGISTER TODAY: baldwinheartwalk.org
URL:https://visitfoley.com/event/baldwin-heart-walk-2025/
LOCATION:OWA\, 1501 South OWA Blvd.\, Foley\, AL\, 36535\, United States
CATEGORIES:Health,Outdoor,OWA,Run
ATTACH;FMTTYPE=image/png:https://visitfoley.com/wp-content/uploads/Resized_Ad_Promo_2-e1723573630264.png
END:VEVENT
BEGIN:VEVENT
DTSTART;TZID=America/Chicago:20251004T140000
DTEND;TZID=America/Chicago:20251004T200000
DTSTAMP:20260423T130758
CREATED:20240903T195559Z
LAST-MODIFIED:20250919T204558Z
UID:10000589-1759586400-1759608000@visitfoley.com
SUMMARY:Oktoberfest
DESCRIPTION:Break out your lederhosen and get ready for a day full of Bavarian-inspired fun! Oktoberfest at Downtown OWA returns on October 4th\, bringing authentic flair with live music\, crafts\, food\, drinks\, classic contests\, and more. \nKick off the day with the Foley Sister Cities 5K\, a fundraiser supporting local students and community initiatives. Then stick around for some of Oktoberfest’s most beloved traditions: test your strength in the Stein Holding Competition\, cheer on furry friends at the Dachshund Derby\, and see who takes home the prize in the Brat Eating Contest. \nWith lively entertainment\, festive bites\, and German-inspired activities for all ages\, this is one fall celebration you won’t want to miss. Check out all the details below! \nSchedule of Events: \nAll Day: Photo ops at the Hershey’s Flowerbed \n9:00am-until: Sister City 5K | Register today: Oktoberfest 5K & Fun Run \n2:00pm-8:00pm: \n\nArts and Crafts Vendors throughout Downtown OWA and Festival Grounds\nStilt Walkers throughout Downtown OWA\nApple Cider Booth in front of Bikini Blini Bakery\nDIY Lebkuchen at the Splashpad\nInflatable Corn Maze on OWA Island | Ages 5+ Recommended\nLive DJ music on the Festival Grounds\nBavarian Twister on the Festival Grounds\nCarnival Games at the Downtown Fountain\nDIY Pretzel Necklaces at the Native Treasures Alcove\nAlpine Hat Kid’s Craft at the Native Treasures Alcove\nOktoberfest-themed Craft by Uniquely Clever at the Waffles R Wild Alcove\nGerman Themed Craft by Artlink at the Native Treasures Alcove\nFree Facepainting at the Native Treasures Alcove\nGerman Spelling Bee at Towne Tap\nOktoberfest Trivia at Towne Tap\n\n2:30pm-3:00pm: Live Clogger Performance by the Salty Stompers on the Festival Grounds \n3:00pm-4:00pm: Dachshund Derby on the Festival Grounds \n3:00pm-3:30pm: Kid’s Stein Holding Competition on the Island Stage | Test your strength and endurance with this challenge to see how long you can hold a full stein at arm’s length! \n\nCash Prizes Listed Below:\n\n1st $75\n2nd $50\n3rd $25\n\n\n\n**OWA Parks & Resort team members are not eligible to win prizes. /You can only win one category per event. ** \n3:30pm-4:00pm: Live Clogger Performance by the Salty Stompers at the Festival Grounds \n4:00pm-5:00pm: Kid’s Stein Holding Competition on the Island Stage \n4:30pm-4:45pm: Brats Eating Competition on the Splash pad stage | $100 Cash Prize \n4:30pm-5:30pm: German Oompah Band by Chris Conger on the Island Stage \n5:00pm-5:30pm: Adult Stein Holding Contest at the Sweet Tooth Alcove and Towne Tap Alcove \n\nCash Prizes Listed Below:\n\n1st $100\n2nd $50\n3rd $25\n\n\n\n**OWA Parks & Resort team members are not eligible to win prizes. /You can only win one category per event. ** \n5:30pm: Costume Contest on the Splashpad Stage | Break out your lederhosen and wildest Bavarian-inspired looks for the chance to win a cash prize. \n\nPrizes listed below:\n\nFunniest $100\nBest Couple $100\nMost Creative $100\n\n\n\n**OWA Parks & Resort team members are not eligible to win prizes. /You can only win one category per event. ** \n6:00pm-6:30pm: Adult Stein Holding Contest at the Sweet Tooth Alcove and Towne Tap Alcove \n6:30pm-8:00pm: Live music by Chitlin Switch on the OWA Island Stage
URL:https://visitfoley.com/event/oktoberfest/
LOCATION:OWA\, 1501 South OWA Blvd.\, Foley\, AL\, 36535\, United States
CATEGORIES:Festival,Food,Music,OWA,Run
ATTACH;FMTTYPE=image/jpeg:https://visitfoley.com/wp-content/uploads/Thumbnail-Header-Image-Oktoberfest-FINAL.jpg
END:VEVENT
BEGIN:VEVENT
DTSTART;TZID=America/Chicago:20251004T080000
DTEND;TZID=America/Chicago:20251004T080000
DTSTAMP:20260423T130758
CREATED:20240508T191733Z
LAST-MODIFIED:20250724T132834Z
UID:10000424-1759564800-1759564800@visitfoley.com
SUMMARY:Annual Oktoberfest 5k Run
DESCRIPTION:Foley Sister Cities Commission will host its 3rd Annual Octoberfest 5K & 1 Mile Fun Run/Walk (USATF Certified 5K Course) on Saturday\, October 4\, 2025\, at OWA starting at 8 AM. This fundraiser will assist in raising funds for the student trips and other sister cities’ initiatives. If you wish\, come dressed in German Oktoberfest customs (dirndl and lederhosen). Beer and brats will be available. \nAwards for the Run are presented 3 deep in each age group (Male & Female – 10 & under\, 11-14\, 15-19\, 20-24\, 25-29\, 30-34\, 35-39\, 40-44\, 45-49\, 50-54\, 55-59\, 60-64\, 65-69\, 70-74\, 75-79\, 80+) as well as Male & Female Overall\, Masters\, Grand Masters\, Senior Grand Masters. \nAwards for the Walk are presented 3 deep in each age group (Male & Female – 10 & under\, 11-19\, 20-29\, 30-39\, 40-49\, 50-59\, 60-69\, 70+).
URL:https://visitfoley.com/event/annual-oktoberfest-5k-run/
LOCATION:OWA\, 1501 South OWA Blvd.\, Foley\, AL\, 36535\, United States
CATEGORIES:Charity,OWA,Run
ATTACH;FMTTYPE=image/jpeg:https://visitfoley.com/wp-content/uploads/FSC-Oktoberfest-5K_2023-Event-1-scaled-e1715195815627.jpg
END:VEVENT
BEGIN:VEVENT
DTSTART;TZID=America/Chicago:20241102T080000
DTEND;TZID=America/Chicago:20241102T110000
DTSTAMP:20260423T130758
CREATED:20241022T130509Z
LAST-MODIFIED:20241022T130509Z
UID:10000634-1730534400-1730545200@visitfoley.com
SUMMARY:Magnolia Run
DESCRIPTION:Runners\, walkers and those who enjoy the outdoors are sure to have a blast participating in the Magnolia Run\, Presented by Baldwin County Sewer Services on Saturday\, November 2 in Magnolia Springs\, Alabama. The Magnolia Run is a 5K Run\, 5K Race/Walk and 1 Mile Fun Run that welcomes around 300 participants and takes place in Magnolia Springs down a beautiful scenic route with majestic oak branch canopies overhanging the road\, lovely azaleas\, flowering plants\, and historic homes. A portion of each runner registration will be donated to a charity of choice. This run is stroller and dog friendly. \nAwards for the Run are presented 3 deep in each age group (Male & Female – 10 & under\, 11-14\, 15-19\, 20-24\, 25-29\, 30-34\, 35-39\, 40-44\, 45-49\, 50-54\, 55-59\, 60-64\, 65-69\, 70-74\, 75-79\, 80+) as well as Male & Female Overall\, Masters\, Grand Masters\, Senior Grand Masters & Wheelchair. \nAwards for the Walk are presented 3 deep in each age group (Male & Female – 10 & under\, 11-19\, 20-29\, 30-39\, 40-49\, 50-59\, 60-69\, 70+). \nAwards for the fun run are presented 3 deep for Male & Female for 44 & under and 45 & over. Each participant of the fun run will receive a participation medal. \nPost-race activities for runners include lively music and delicious food provided by Jesse’s Restaurant. \nThe Magnolia Run begins and ends at Jesse’s Restaurant\, 14770 Oak Street in Magnolia Springs\, AL. Awards will be held inside the Magnolia Springs Community Hall. \nThis race is USATF certified\, certificate number AL19018JE. \nPre-Packet Pick up will be Saturday\, October 26 from 9am-2pm at the South Baldwin Chamber of Commerce\, located at 200 N. Alston St\, Foley\, AL 36335 or on Saturday\, November 2 from 6:30am-7:30am at the Magnolia Springs Community Hall. \nA portion of all proceeds will be donated to The Dream Center of Baldwin County. 
URL:https://visitfoley.com/event/magnolia-run/
LOCATION:Magnolia Springs\, 14770 Oak St\,\, Magnolia Springs\, 36555\, United States
CATEGORIES:Community,Outdoor,Run
ATTACH;FMTTYPE=image/png:https://visitfoley.com/wp-content/uploads/race89203-logo-0.bEC9Sj-e1729602293546.png
END:VEVENT
BEGIN:VEVENT
DTSTART;TZID=America/Chicago:20241005T080000
DTEND;TZID=America/Chicago:20241005T220000
DTSTAMP:20260423T130758
CREATED:20240813T184924Z
LAST-MODIFIED:20240813T184924Z
UID:10000555-1728115200-1728165600@visitfoley.com
SUMMARY:Annual Alzheimers Awareness & Fundraising Walk
DESCRIPTION:All are welcome! Join for a fun morning with food and fellowship\, where we walk to honor & remember those who need\, or needed a cure. Participation is free. Donations welcome.
URL:https://visitfoley.com/event/annual-alzheimers-awareness-fundraising-walk/
LOCATION:Heritage Park\, 101 E. Laurel Ave.\, Foley\, AL\, 36535\, United States
CATEGORIES:Health,Outdoor,Run
ATTACH;FMTTYPE=image/jpeg:https://visitfoley.com/wp-content/uploads/events-default-01.jpg
END:VEVENT
BEGIN:VEVENT
DTSTART;TZID=America/Chicago:20240907T080000
DTEND;TZID=America/Chicago:20240907T080000
DTSTAMP:20260423T130758
CREATED:20240815T134822Z
LAST-MODIFIED:20240815T134822Z
UID:10000557-1725696000-1725696000@visitfoley.com
SUMMARY:Brett/Robinson Alabama Coastal Triathlon
DESCRIPTION:Experience the ultimate coastal triathlon in the beautiful Gulf Shores. Our event combines the thrill of triathlon with the breathtaking backdrop of the Gulf Coast. \n🏖️ Spectacular Scenery: Swim in the serene Gulf waters\, cycle along the picturesque coastline\, and run alongside pristine beaches—this is a race with a view. \n🌟 Accessible to All: With various categories for participants of all skill levels\, it’s the perfect opportunity to challenge yourself or enjoy a leisurely race day with your family and friends. \n🏆 Serious Competition: Compete with like-minded athletes and push your limits in a professionally organized race. Top performers will earn recognition and prizes. \n🌴 Community Spirit: Join us for a memorable day of sport\, camaraderie\, and coastal charm. Celebrate your achievement at our post-race party. \nReady to test your mettle against the beauty of the Gulf Coast? Register now for the Brett-Robinson Alabama Coastal Triathlon and make memories that last a lifetime! \n\n\n\n\nAdditional race information can be found at https://www.magicsportsusa.com/events/alabama-coastal.
URL:https://visitfoley.com/event/brett-robinson-alabama-coastal-triathlon/
LOCATION:Gulf Shores Main Public Beach\, 101 Gulf Shores Pkwy\, Gulf Shores\, 36542\, United States
CATEGORIES:Outdoor,Run
ATTACH;FMTTYPE=image/png:https://visitfoley.com/wp-content/uploads/66aa77b07a1f17382c6721c3_2012-ACT-Logo-1-e1723729681306.png
END:VEVENT
BEGIN:VEVENT
DTSTART;TZID=America/Chicago:20240813T080000
DTEND;TZID=America/Chicago:20240813T170000
DTSTAMP:20260423T130758
CREATED:20240813T183046Z
LAST-MODIFIED:20240813T183046Z
UID:10000554-1723536000-1723568400@visitfoley.com
SUMMARY:2024 Magnolia Run
DESCRIPTION:egistration opens at 7:00 am\n5K Run begins at 8:00 am\n1 Mile Fun Run begins at 9:00 am \nRunners\, walkers\, and those who enjoy the outdoors are sure to have a blast participating in the Magnolia Run\, presented by Baldwin County Sewer Service on Saturday\, November 2\, 2024\, in Magnolia Springs\, Alabama. \nThe Magnolia Run is a 5K Run\, 5K Race/Walk and 1 Mile Fun Run that welcomes around 200 participants and takes place in Magnolia Springs down a beautiful scenic route with majestic oak branch canopies overhanging the road\, lovely azaleas\, flowering plants\, and historic homes. This run is stroller and dog friendly. \nAwards are presented to a wide variety of age groups. All runners are welcome to participate in post-race activities – lively DJ music\, delicious food provided by Jesse’s Restaurant\, beverages\, and door prizes! \nThis race is USATF certified\, certificate number AL19018JE\, and begins and ends at Jesse’s Restaurant\, 14770 Oak Street in Magnolia Springs\, AL \nPre-Packet Pick up will be Saturday\, October 26 from 9am-2pm at the South Baldwin Chamber of Commerce\, located at 200 N. Alston St\, Foley\, AL 36335 or on Saturday\, November 2 from 6:30am-7:30am at the Magnolia Springs Community Hall. \nFor online registration and all the important information you’ll want to know\, go to our website: https://bit.ly/magnoliarun
URL:https://visitfoley.com/event/2024-magnolia-run/
LOCATION:Jesse’s Restaurant\, 14770 Oak Street\, Magnolia Springs\, 36555\, United States
CATEGORIES:Health,Outdoor,Run
ATTACH;FMTTYPE=image/png:https://visitfoley.com/wp-content/uploads/EventPhotoFull_Magnolia-Run-logo-e1723573821342.png
END:VEVENT
END:VCALENDAR