BEGIN:VCALENDAR
VERSION:2.0
PRODID:-//Visit Foley - ECPv6.15.20//NONSGML v1.0//EN
CALSCALE:GREGORIAN
METHOD:PUBLISH
X-WR-CALNAME:Visit Foley
X-ORIGINAL-URL:https://visitfoley.com
X-WR-CALDESC:Events for Visit Foley
REFRESH-INTERVAL;VALUE=DURATION:PT1H
X-Robots-Tag:noindex
X-PUBLISHED-TTL:PT1H
BEGIN:VTIMEZONE
TZID:America/Chicago
BEGIN:DAYLIGHT
TZOFFSETFROM:-0600
TZOFFSETTO:-0500
TZNAME:CDT
DTSTART:20250309T080000
END:DAYLIGHT
BEGIN:STANDARD
TZOFFSETFROM:-0500
TZOFFSETTO:-0600
TZNAME:CST
DTSTART:20251102T070000
END:STANDARD
BEGIN:DAYLIGHT
TZOFFSETFROM:-0600
TZOFFSETTO:-0500
TZNAME:CDT
DTSTART:20260308T080000
END:DAYLIGHT
BEGIN:STANDARD
TZOFFSETFROM:-0500
TZOFFSETTO:-0600
TZNAME:CST
DTSTART:20261101T070000
END:STANDARD
BEGIN:DAYLIGHT
TZOFFSETFROM:-0600
TZOFFSETTO:-0500
TZNAME:CDT
DTSTART:20270314T080000
END:DAYLIGHT
BEGIN:STANDARD
TZOFFSETFROM:-0500
TZOFFSETTO:-0600
TZNAME:CST
DTSTART:20271107T070000
END:STANDARD
END:VTIMEZONE
BEGIN:VEVENT
DTSTART;TZID=America/Chicago:20260331T090000
DTEND;TZID=America/Chicago:20260331T180000
DTSTAMP:20260421T154327
CREATED:20260310T134022Z
LAST-MODIFIED:20260310T134022Z
UID:10001842-1774947600-1774980000@visitfoley.com
SUMMARY:Marketing Workshop for Local Businesses
DESCRIPTION:Foley Main Street will host a practical marketing workshop designed to help local businesses attract more customers through creative visibility strategies on Tuesday\, March 31 at Riviera Utilities. \nThe workshop\, Creative Ways to Attract Customers Without a Big Budget\, will be presented by Lindsay Schumacher\, owner and president of L. Schumacher Consulting. Schumacher works with businesses across the Gulf Coast and Southeast to strengthen branding\, marketing strategy\, and digital presence. \nTwo sessions will be offered to accommodate business owners’ schedules. A morning session will take place from 9:00 to 11:00 a.m. with a light breakfast provided. An afternoon session will be held from 4:00 to 6:00 p.m. with snacks provided. \nDuring the workshop\, Schumacher will walk attendees through practical marketing fundamentals including customer psychology\, simple branding strategies\, and creative ways businesses can increase visibility without large marketing budgets. The session will also explore real world examples such as community partnerships\, customer advocacy\, social media visibility\, and other creative marketing ideas that successful small businesses are using today. \nThe workshop is designed for both new and established business owners and focuses on practical ideas that can be implemented immediately. \nSeating for each session is limited and early registration is encouraged. \nRegistration is free for Foley Main Street supporters. The cost is $15 for businesses located in the Downtown Foley area that are not current supporters and $25 for businesses outside the Downtown Foley area that are not supporters. \nBusinesses can register at Foley Main Street website. \nFoley Main Street plans to continue the business education series throughout the spring with additional workshops scheduled for May 5 and June 2 covering topics designed to help local businesses strengthen their marketing and digital presence. \nFor questions or additional information\, contact Darrelyn Dunmore with Foley Main Street at 251.270.0089 or darrelyn@foleymainstreet.com.
URL:https://visitfoley.com/event/marketing-workshop-for-local-businesses/
LOCATION:Riviera Utilities\, 413 East Laurel Ave.\, Foley\, AL\, 36535\, United States
CATEGORIES:Downtown Foley,Educational,Local
ATTACH;FMTTYPE=image/png:https://visitfoley.com/wp-content/uploads/2026-FMS-Media-Assets-for-Marketing-Visibility-Instagram-FB.png
END:VEVENT
END:VCALENDAR