BEGIN:VCALENDAR
VERSION:2.0
PRODID:-//Visit Foley - ECPv6.15.20//NONSGML v1.0//EN
CALSCALE:GREGORIAN
METHOD:PUBLISH
X-ORIGINAL-URL:https://visitfoley.com
X-WR-CALDESC:Events for Visit Foley
REFRESH-INTERVAL;VALUE=DURATION:PT1H
X-Robots-Tag:noindex
X-PUBLISHED-TTL:PT1H
BEGIN:VTIMEZONE
TZID:America/Chicago
BEGIN:DAYLIGHT
TZOFFSETFROM:-0600
TZOFFSETTO:-0500
TZNAME:CDT
DTSTART:20250309T080000
END:DAYLIGHT
BEGIN:STANDARD
TZOFFSETFROM:-0500
TZOFFSETTO:-0600
TZNAME:CST
DTSTART:20251102T070000
END:STANDARD
BEGIN:DAYLIGHT
TZOFFSETFROM:-0600
TZOFFSETTO:-0500
TZNAME:CDT
DTSTART:20260308T080000
END:DAYLIGHT
BEGIN:STANDARD
TZOFFSETFROM:-0500
TZOFFSETTO:-0600
TZNAME:CST
DTSTART:20261101T070000
END:STANDARD
BEGIN:DAYLIGHT
TZOFFSETFROM:-0600
TZOFFSETTO:-0500
TZNAME:CDT
DTSTART:20270314T080000
END:DAYLIGHT
BEGIN:STANDARD
TZOFFSETFROM:-0500
TZOFFSETTO:-0600
TZNAME:CST
DTSTART:20271107T070000
END:STANDARD
END:VTIMEZONE
BEGIN:VEVENT
DTSTART;TZID=America/Chicago:20260508T090000
DTEND;TZID=America/Chicago:20260508T150000
DTSTAMP:20260425T163619
CREATED:20241023T144450Z
LAST-MODIFIED:20251216T221301Z
UID:10001460-1778230800-1778252400@visitfoley.com
SUMMARY:Education in Motion
DESCRIPTION:Join us for an exhilarating journey through the wonders of physics at the Tropic Falls Theme Park! Gravity\, inertia\, and centripetal force come alive at Education in Motion\, making science an unforgettable experience for your class. Education In Motion presents a STEM-based field trip that blends education with excitement\, promising a day of unparalleled learning.\nOur carefully crafted learning materials provide students with self-guided instructions on the principles of physics and how it relates to the rides at Tropic Falls. From K-12\, students will immerse themselves in the world of gravity\, centripetal motion\, inertia\, potential and kinetic energy\, as well as the intriguing distinctions between negative and positive G-forces. Explore the world of animatronics in our indoor dark ride\, Mystic Mansion\, where the science behind the magic is unveiled.\nWhether your students are homeschooled\, attend private school\, or engage in virtual learning\, all school-aged children are enthusiastically welcomed!\nLimited spots are available\, so seize the opportunity and reserve your spot today! Ask about our affordable meal plans and refillable drink bottles!\nPlease note that Education in Motion requires a minimum of 15 guests per group\, and all attendees must purchase a ticket for admission. Tropic Falls may not be exclusively reserved from scheduled school groups.\n\nFor group reservations\, please contact Group Sales at GroupSales@VisitOWA.com or 251-923-3490.
URL:https://visitfoley.com/event/education-in-motion-2/2026-05-08/
LOCATION:OWA\, 1501 South OWA Blvd.\, Foley\, AL\, 36535\, United States
CATEGORIES:Educational,Kids,OWA
ATTACH;FMTTYPE=image/jpeg:https://visitfoley.com/wp-content/uploads/Facebook-Event-Header-Education-in-Motion-2023-e1765922659600.jpg
END:VEVENT
END:VCALENDAR