BEGIN:VCALENDAR
VERSION:2.0
PRODID:-//Visit Foley - ECPv6.15.20//NONSGML v1.0//EN
CALSCALE:GREGORIAN
METHOD:PUBLISH
X-ORIGINAL-URL:https://visitfoley.com
X-WR-CALDESC:Events for Visit Foley
REFRESH-INTERVAL;VALUE=DURATION:PT1H
X-Robots-Tag:noindex
X-PUBLISHED-TTL:PT1H
BEGIN:VTIMEZONE
TZID:America/Chicago
BEGIN:DAYLIGHT
TZOFFSETFROM:-0600
TZOFFSETTO:-0500
TZNAME:CDT
DTSTART:20230312T080000
END:DAYLIGHT
BEGIN:STANDARD
TZOFFSETFROM:-0500
TZOFFSETTO:-0600
TZNAME:CST
DTSTART:20231105T070000
END:STANDARD
BEGIN:DAYLIGHT
TZOFFSETFROM:-0600
TZOFFSETTO:-0500
TZNAME:CDT
DTSTART:20240310T080000
END:DAYLIGHT
BEGIN:STANDARD
TZOFFSETFROM:-0500
TZOFFSETTO:-0600
TZNAME:CST
DTSTART:20241103T070000
END:STANDARD
BEGIN:DAYLIGHT
TZOFFSETFROM:-0600
TZOFFSETTO:-0500
TZNAME:CDT
DTSTART:20250309T080000
END:DAYLIGHT
BEGIN:STANDARD
TZOFFSETFROM:-0500
TZOFFSETTO:-0600
TZNAME:CST
DTSTART:20251102T070000
END:STANDARD
END:VTIMEZONE
BEGIN:VEVENT
DTSTART;TZID=America/Chicago:20241207T140000
DTEND;TZID=America/Chicago:20241207T190000
DTSTAMP:20260425T082947
CREATED:20241114T163207Z
LAST-MODIFIED:20241114T163207Z
UID:10000662-1733580000-1733598000@visitfoley.com
SUMMARY:The North Pole Experience
DESCRIPTION:This holiday season\, bring the family to Downtown OWA and step into the magical North Pole! From November 23rd to December 23rd\, celebrate the spirit of the season with Santa! From capturing photos with the big man himself to playing Reindeer Games\, the North Pole is filled with festive fun for the whole family. Wanting to capture a picture of your furry friend with Santa? Join us on December 7th for Santa Paws. With so many magical moments waiting to be captured\, the North Pole at Downtown OWA is the perfect holiday stop for creating unforgettable memories! \nThe North Pole is located in between Native Treasures and Pickleball at OWA. \nThe North Pole is free to attend. Pictures with Santa are available for purchase. Personal photography is not permitted. Check out photo package pricing below! \n\n\n\nFor times\, visit https://visitowa.com/the-north-pole/
URL:https://visitfoley.com/event/the-north-pole-experience/2024-12-07/
LOCATION:OWA\, 1501 South OWA Blvd.\, Foley\, AL\, 36535\, United States
CATEGORIES:Christmas,Family,Kids,OWA
ATTACH;FMTTYPE=image/jpeg:https://visitfoley.com/wp-content/uploads/Profile-01.jpg
END:VEVENT
BEGIN:VEVENT
DTSTART;TZID=America/Chicago:20241208T130000
DTEND;TZID=America/Chicago:20241208T190000
DTSTAMP:20260425T082947
CREATED:20241114T163207Z
LAST-MODIFIED:20241114T163207Z
UID:10000663-1733662800-1733684400@visitfoley.com
SUMMARY:The North Pole Experience
DESCRIPTION:This holiday season\, bring the family to Downtown OWA and step into the magical North Pole! From November 23rd to December 23rd\, celebrate the spirit of the season with Santa! From capturing photos with the big man himself to playing Reindeer Games\, the North Pole is filled with festive fun for the whole family. Wanting to capture a picture of your furry friend with Santa? Join us on December 7th for Santa Paws. With so many magical moments waiting to be captured\, the North Pole at Downtown OWA is the perfect holiday stop for creating unforgettable memories! \nThe North Pole is located in between Native Treasures and Pickleball at OWA. \nThe North Pole is free to attend. Pictures with Santa are available for purchase. Personal photography is not permitted. Check out photo package pricing below! \n\n\n\nFor times\, visit https://visitowa.com/the-north-pole/
URL:https://visitfoley.com/event/the-north-pole-experience/2024-12-08/
LOCATION:OWA\, 1501 South OWA Blvd.\, Foley\, AL\, 36535\, United States
CATEGORIES:Christmas,Family,Kids,OWA
ATTACH;FMTTYPE=image/jpeg:https://visitfoley.com/wp-content/uploads/Profile-01.jpg
END:VEVENT
BEGIN:VEVENT
DTSTART;TZID=America/Chicago:20241214T140000
DTEND;TZID=America/Chicago:20241214T190000
DTSTAMP:20260425T082947
CREATED:20241114T163207Z
LAST-MODIFIED:20241114T163207Z
UID:10000664-1734184800-1734202800@visitfoley.com
SUMMARY:The North Pole Experience
DESCRIPTION:This holiday season\, bring the family to Downtown OWA and step into the magical North Pole! From November 23rd to December 23rd\, celebrate the spirit of the season with Santa! From capturing photos with the big man himself to playing Reindeer Games\, the North Pole is filled with festive fun for the whole family. Wanting to capture a picture of your furry friend with Santa? Join us on December 7th for Santa Paws. With so many magical moments waiting to be captured\, the North Pole at Downtown OWA is the perfect holiday stop for creating unforgettable memories! \nThe North Pole is located in between Native Treasures and Pickleball at OWA. \nThe North Pole is free to attend. Pictures with Santa are available for purchase. Personal photography is not permitted. Check out photo package pricing below! \n\n\n\nFor times\, visit https://visitowa.com/the-north-pole/
URL:https://visitfoley.com/event/the-north-pole-experience/2024-12-14/
LOCATION:OWA\, 1501 South OWA Blvd.\, Foley\, AL\, 36535\, United States
CATEGORIES:Christmas,Family,Kids,OWA
ATTACH;FMTTYPE=image/jpeg:https://visitfoley.com/wp-content/uploads/Profile-01.jpg
END:VEVENT
BEGIN:VEVENT
DTSTART;TZID=America/Chicago:20241215T130000
DTEND;TZID=America/Chicago:20241215T190000
DTSTAMP:20260425T082947
CREATED:20241114T163207Z
LAST-MODIFIED:20241114T163207Z
UID:10000665-1734267600-1734289200@visitfoley.com
SUMMARY:The North Pole Experience
DESCRIPTION:This holiday season\, bring the family to Downtown OWA and step into the magical North Pole! From November 23rd to December 23rd\, celebrate the spirit of the season with Santa! From capturing photos with the big man himself to playing Reindeer Games\, the North Pole is filled with festive fun for the whole family. Wanting to capture a picture of your furry friend with Santa? Join us on December 7th for Santa Paws. With so many magical moments waiting to be captured\, the North Pole at Downtown OWA is the perfect holiday stop for creating unforgettable memories! \nThe North Pole is located in between Native Treasures and Pickleball at OWA. \nThe North Pole is free to attend. Pictures with Santa are available for purchase. Personal photography is not permitted. Check out photo package pricing below! \n\n\n\nFor times\, visit https://visitowa.com/the-north-pole/
URL:https://visitfoley.com/event/the-north-pole-experience/2024-12-15/
LOCATION:OWA\, 1501 South OWA Blvd.\, Foley\, AL\, 36535\, United States
CATEGORIES:Christmas,Family,Kids,OWA
ATTACH;FMTTYPE=image/jpeg:https://visitfoley.com/wp-content/uploads/Profile-01.jpg
END:VEVENT
BEGIN:VEVENT
DTSTART;TZID=America/Chicago:20241219T090000
DTEND;TZID=America/Chicago:20241219T110000
DTSTAMP:20260425T082947
CREATED:20241114T163820Z
LAST-MODIFIED:20241114T163820Z
UID:10000673-1734598800-1734606000@visitfoley.com
SUMMARY:Breakfast with Santa
DESCRIPTION:Join us for Breakfast with Santa at Storybook Manor in Downtown OWA on December 19th – 23rd! This holiday experience features delicious breakfast\, holiday crafts\, and magical moments with Santa himself. What better way to cherish the holiday season than with family\, food\, and of course\, Santa! \nStorybook Manor is conveniently located next to OWA Theater\, across from Native Treasures. \n\n\n\n\nTickets here!
URL:https://visitfoley.com/event/breakfast-with-santa/2024-12-19/
LOCATION:OWA\, 1501 South OWA Blvd.\, Foley\, AL\, 36535\, United States
CATEGORIES:Christmas,Food,Kids,OWA
ATTACH;FMTTYPE=image/jpeg:https://visitfoley.com/wp-content/uploads/Profile-revised.jpg
END:VEVENT
BEGIN:VEVENT
DTSTART;TZID=America/Chicago:20241219T130000
DTEND;TZID=America/Chicago:20241219T190000
DTSTAMP:20260425T082947
CREATED:20241114T163207Z
LAST-MODIFIED:20241114T163207Z
UID:10000666-1734613200-1734634800@visitfoley.com
SUMMARY:The North Pole Experience
DESCRIPTION:This holiday season\, bring the family to Downtown OWA and step into the magical North Pole! From November 23rd to December 23rd\, celebrate the spirit of the season with Santa! From capturing photos with the big man himself to playing Reindeer Games\, the North Pole is filled with festive fun for the whole family. Wanting to capture a picture of your furry friend with Santa? Join us on December 7th for Santa Paws. With so many magical moments waiting to be captured\, the North Pole at Downtown OWA is the perfect holiday stop for creating unforgettable memories! \nThe North Pole is located in between Native Treasures and Pickleball at OWA. \nThe North Pole is free to attend. Pictures with Santa are available for purchase. Personal photography is not permitted. Check out photo package pricing below! \n\n\n\nFor times\, visit https://visitowa.com/the-north-pole/
URL:https://visitfoley.com/event/the-north-pole-experience/2024-12-19/
LOCATION:OWA\, 1501 South OWA Blvd.\, Foley\, AL\, 36535\, United States
CATEGORIES:Christmas,Family,Kids,OWA
ATTACH;FMTTYPE=image/jpeg:https://visitfoley.com/wp-content/uploads/Profile-01.jpg
END:VEVENT
BEGIN:VEVENT
DTSTART;TZID=America/Chicago:20241220T090000
DTEND;TZID=America/Chicago:20241220T110000
DTSTAMP:20260425T082947
CREATED:20241114T163820Z
LAST-MODIFIED:20241114T163820Z
UID:10000674-1734685200-1734692400@visitfoley.com
SUMMARY:Breakfast with Santa
DESCRIPTION:Join us for Breakfast with Santa at Storybook Manor in Downtown OWA on December 19th – 23rd! This holiday experience features delicious breakfast\, holiday crafts\, and magical moments with Santa himself. What better way to cherish the holiday season than with family\, food\, and of course\, Santa! \nStorybook Manor is conveniently located next to OWA Theater\, across from Native Treasures. \n\n\n\n\nTickets here!
URL:https://visitfoley.com/event/breakfast-with-santa/2024-12-20/
LOCATION:OWA\, 1501 South OWA Blvd.\, Foley\, AL\, 36535\, United States
CATEGORIES:Christmas,Food,Kids,OWA
ATTACH;FMTTYPE=image/jpeg:https://visitfoley.com/wp-content/uploads/Profile-revised.jpg
END:VEVENT
BEGIN:VEVENT
DTSTART;TZID=America/Chicago:20241220T130000
DTEND;TZID=America/Chicago:20241220T190000
DTSTAMP:20260425T082947
CREATED:20241114T163207Z
LAST-MODIFIED:20241114T163207Z
UID:10000667-1734699600-1734721200@visitfoley.com
SUMMARY:The North Pole Experience
DESCRIPTION:This holiday season\, bring the family to Downtown OWA and step into the magical North Pole! From November 23rd to December 23rd\, celebrate the spirit of the season with Santa! From capturing photos with the big man himself to playing Reindeer Games\, the North Pole is filled with festive fun for the whole family. Wanting to capture a picture of your furry friend with Santa? Join us on December 7th for Santa Paws. With so many magical moments waiting to be captured\, the North Pole at Downtown OWA is the perfect holiday stop for creating unforgettable memories! \nThe North Pole is located in between Native Treasures and Pickleball at OWA. \nThe North Pole is free to attend. Pictures with Santa are available for purchase. Personal photography is not permitted. Check out photo package pricing below! \n\n\n\nFor times\, visit https://visitowa.com/the-north-pole/
URL:https://visitfoley.com/event/the-north-pole-experience/2024-12-20/
LOCATION:OWA\, 1501 South OWA Blvd.\, Foley\, AL\, 36535\, United States
CATEGORIES:Christmas,Family,Kids,OWA
ATTACH;FMTTYPE=image/jpeg:https://visitfoley.com/wp-content/uploads/Profile-01.jpg
END:VEVENT
BEGIN:VEVENT
DTSTART;TZID=America/Chicago:20241221T090000
DTEND;TZID=America/Chicago:20241221T110000
DTSTAMP:20260425T082947
CREATED:20241114T163820Z
LAST-MODIFIED:20241114T163820Z
UID:10000675-1734771600-1734778800@visitfoley.com
SUMMARY:Breakfast with Santa
DESCRIPTION:Join us for Breakfast with Santa at Storybook Manor in Downtown OWA on December 19th – 23rd! This holiday experience features delicious breakfast\, holiday crafts\, and magical moments with Santa himself. What better way to cherish the holiday season than with family\, food\, and of course\, Santa! \nStorybook Manor is conveniently located next to OWA Theater\, across from Native Treasures. \n\n\n\n\nTickets here!
URL:https://visitfoley.com/event/breakfast-with-santa/2024-12-21/
LOCATION:OWA\, 1501 South OWA Blvd.\, Foley\, AL\, 36535\, United States
CATEGORIES:Christmas,Food,Kids,OWA
ATTACH;FMTTYPE=image/jpeg:https://visitfoley.com/wp-content/uploads/Profile-revised.jpg
END:VEVENT
BEGIN:VEVENT
DTSTART;TZID=America/Chicago:20241221T140000
DTEND;TZID=America/Chicago:20241221T190000
DTSTAMP:20260425T082947
CREATED:20241114T163207Z
LAST-MODIFIED:20241114T163207Z
UID:10000668-1734789600-1734807600@visitfoley.com
SUMMARY:The North Pole Experience
DESCRIPTION:This holiday season\, bring the family to Downtown OWA and step into the magical North Pole! From November 23rd to December 23rd\, celebrate the spirit of the season with Santa! From capturing photos with the big man himself to playing Reindeer Games\, the North Pole is filled with festive fun for the whole family. Wanting to capture a picture of your furry friend with Santa? Join us on December 7th for Santa Paws. With so many magical moments waiting to be captured\, the North Pole at Downtown OWA is the perfect holiday stop for creating unforgettable memories! \nThe North Pole is located in between Native Treasures and Pickleball at OWA. \nThe North Pole is free to attend. Pictures with Santa are available for purchase. Personal photography is not permitted. Check out photo package pricing below! \n\n\n\nFor times\, visit https://visitowa.com/the-north-pole/
URL:https://visitfoley.com/event/the-north-pole-experience/2024-12-21/
LOCATION:OWA\, 1501 South OWA Blvd.\, Foley\, AL\, 36535\, United States
CATEGORIES:Christmas,Family,Kids,OWA
ATTACH;FMTTYPE=image/jpeg:https://visitfoley.com/wp-content/uploads/Profile-01.jpg
END:VEVENT
BEGIN:VEVENT
DTSTART;TZID=America/Chicago:20241222T090000
DTEND;TZID=America/Chicago:20241222T110000
DTSTAMP:20260425T082947
CREATED:20241114T163820Z
LAST-MODIFIED:20241114T163820Z
UID:10000676-1734858000-1734865200@visitfoley.com
SUMMARY:Breakfast with Santa
DESCRIPTION:Join us for Breakfast with Santa at Storybook Manor in Downtown OWA on December 19th – 23rd! This holiday experience features delicious breakfast\, holiday crafts\, and magical moments with Santa himself. What better way to cherish the holiday season than with family\, food\, and of course\, Santa! \nStorybook Manor is conveniently located next to OWA Theater\, across from Native Treasures. \n\n\n\n\nTickets here!
URL:https://visitfoley.com/event/breakfast-with-santa/2024-12-22/
LOCATION:OWA\, 1501 South OWA Blvd.\, Foley\, AL\, 36535\, United States
CATEGORIES:Christmas,Food,Kids,OWA
ATTACH;FMTTYPE=image/jpeg:https://visitfoley.com/wp-content/uploads/Profile-revised.jpg
END:VEVENT
END:VCALENDAR