BEGIN:VCALENDAR
VERSION:2.0
PRODID:-//Visit Foley - ECPv6.15.20//NONSGML v1.0//EN
CALSCALE:GREGORIAN
METHOD:PUBLISH
X-ORIGINAL-URL:https://visitfoley.com
X-WR-CALDESC:Events for Visit Foley
REFRESH-INTERVAL;VALUE=DURATION:PT1H
X-Robots-Tag:noindex
X-PUBLISHED-TTL:PT1H
BEGIN:VTIMEZONE
TZID:America/Chicago
BEGIN:DAYLIGHT
TZOFFSETFROM:-0600
TZOFFSETTO:-0500
TZNAME:CDT
DTSTART:20250309T080000
END:DAYLIGHT
BEGIN:STANDARD
TZOFFSETFROM:-0500
TZOFFSETTO:-0600
TZNAME:CST
DTSTART:20251102T070000
END:STANDARD
BEGIN:DAYLIGHT
TZOFFSETFROM:-0600
TZOFFSETTO:-0500
TZNAME:CDT
DTSTART:20260308T080000
END:DAYLIGHT
BEGIN:STANDARD
TZOFFSETFROM:-0500
TZOFFSETTO:-0600
TZNAME:CST
DTSTART:20261101T070000
END:STANDARD
BEGIN:DAYLIGHT
TZOFFSETFROM:-0600
TZOFFSETTO:-0500
TZNAME:CDT
DTSTART:20270314T080000
END:DAYLIGHT
BEGIN:STANDARD
TZOFFSETFROM:-0500
TZOFFSETTO:-0600
TZNAME:CST
DTSTART:20271107T070000
END:STANDARD
END:VTIMEZONE
BEGIN:VEVENT
DTSTART;TZID=America/Chicago:20261121T190000
DTEND;TZID=America/Chicago:20261121T203000
DTSTAMP:20260424T002556
CREATED:20250107T192001Z
LAST-MODIFIED:20260109T164045Z
UID:10001684-1795287600-1795293000@visitfoley.com
SUMMARY:Brandon Styles Variety Show
DESCRIPTION:Don’t miss your chance to see Gulf Coast’s #1 Variety Show Every Tuesday & Saturday at 7:00 pm! \nThe Brandon Styles VARIETY SHOW is a performance by one man that you won’t want to miss! Get ready to be amazed by Brandon’s live performance\, where he impersonates nearly 60 different famous people\, from Frank Sinatra to Justin Bieber. This show is unique because Brandon has added just the right amount of comedy\, magic\, dancing\, ventriloquism\, and audience participation to keep you entertained in a fast-paced 70-minute show! \nActivity Highlights\n→ Professional impressions from a Vegas-trained talent\n→ World competition award-winning magician\n→ Great for families or a date-night\n→ Indoor seating\n→ Audience participation\n→ *Exclusive discounts to participating restaurants at OWA (these offers will be included in your email ticket confirmation.)
URL:https://visitfoley.com/event/brandon-styles-variety-show-2/2026-11-21/
LOCATION:Brandon Styles Theater\, 101H OWA Blvd.\, Foley\, AL\, 36535\, United States
CATEGORIES:Comedy,Family,OWA
ATTACH;FMTTYPE=image/jpeg:https://visitfoley.com/wp-content/uploads/Variety-Show-Website-Graphic-768x576-1-e1709234678351.jpg
END:VEVENT
BEGIN:VEVENT
DTSTART;TZID=America/Chicago:20261122T150000
DTEND;TZID=America/Chicago:20261122T150000
DTSTAMP:20260424T002556
CREATED:20240118T220018Z
LAST-MODIFIED:20260109T171003Z
UID:10001766-1795359600-1795359600@visitfoley.com
SUMMARY:Trip Down Memory Lane
DESCRIPTION:Join Brandon Styles on select Sundays at 3:00 pm as he transports you back in time with a captivating performance that will make you reminisce. With his magical voice\, Brandon effortlessly sings songs from the 1950s to the 1970s\, representing a variety of iconic artists such as Frank Sinatra\, Tony Bennett\, Neil Diamond\, and Louis Armstrong\, among others. It’s no wonder this show has been voted as the best date night experience on the Gulf Coast. \nThis show is family-friendly and there are no dress codes or age restrictions.
URL:https://visitfoley.com/event/trip-down-memory-lane/2026-11-22/
LOCATION:Brandon Styles Theater\, 101H OWA Blvd.\, Foley\, AL\, 36535\, United States
CATEGORIES:Comedy,OWA,Theater
ATTACH;FMTTYPE=image/jpeg:https://visitfoley.com/wp-content/uploads/TDML-Website-Thumb-e1709675367696.jpg
END:VEVENT
BEGIN:VEVENT
DTSTART;TZID=America/Chicago:20261124T190000
DTEND;TZID=America/Chicago:20261124T203000
DTSTAMP:20260424T002556
CREATED:20250107T192001Z
LAST-MODIFIED:20260109T164045Z
UID:10001734-1795546800-1795552200@visitfoley.com
SUMMARY:Brandon Styles Variety Show
DESCRIPTION:Don’t miss your chance to see Gulf Coast’s #1 Variety Show Every Tuesday & Saturday at 7:00 pm! \nThe Brandon Styles VARIETY SHOW is a performance by one man that you won’t want to miss! Get ready to be amazed by Brandon’s live performance\, where he impersonates nearly 60 different famous people\, from Frank Sinatra to Justin Bieber. This show is unique because Brandon has added just the right amount of comedy\, magic\, dancing\, ventriloquism\, and audience participation to keep you entertained in a fast-paced 70-minute show! \nActivity Highlights\n→ Professional impressions from a Vegas-trained talent\n→ World competition award-winning magician\n→ Great for families or a date-night\n→ Indoor seating\n→ Audience participation\n→ *Exclusive discounts to participating restaurants at OWA (these offers will be included in your email ticket confirmation.)
URL:https://visitfoley.com/event/brandon-styles-variety-show-2/2026-11-24/
LOCATION:Brandon Styles Theater\, 101H OWA Blvd.\, Foley\, AL\, 36535\, United States
CATEGORIES:Comedy,Family,OWA
ATTACH;FMTTYPE=image/jpeg:https://visitfoley.com/wp-content/uploads/Variety-Show-Website-Graphic-768x576-1-e1709234678351.jpg
END:VEVENT
BEGIN:VEVENT
DTSTART;TZID=America/Chicago:20261125T190000
DTEND;TZID=America/Chicago:20261125T190000
DTSTAMP:20260424T002556
CREATED:20260109T164847Z
LAST-MODIFIED:20260109T165210Z
UID:10001756-1795633200-1795633200@visitfoley.com
SUMMARY:Brandon Styles MAGIC SHOW
DESCRIPTION:The Brandon Styles COMEDY MAGIC Show is filled with a variety of magic tricks\, both big and small\, that will astonish and entertain you. This show is designed to make you laugh and leave you in awe. There are plenty of opportunities for audience participation\, and fun props are used to create a lively and enjoyable experience for everyone. Make sure you don’t miss Alabama’s only magic show! \nActivity Highlights\n→ World competition award-winning magician\n→ Great for families & children\n→ Indoor seating\n→ Audience participation\n→ *Exclusive discounts to participating restaurants at OWA (these offers will be included with your email ticket confirmation.)
URL:https://visitfoley.com/event/brandon-styles-magic-show-2/2026-11-25/
LOCATION:Brandon Styles Theater\, 101H OWA Blvd.\, Foley\, AL\, 36535\, United States
CATEGORIES:Comedy,Indoor,OWA
ATTACH;FMTTYPE=image/jpeg:https://visitfoley.com/wp-content/uploads/brandon-styles-magic-show-event.jpg
END:VEVENT
BEGIN:VEVENT
DTSTART;TZID=America/Chicago:20261127T190000
DTEND;TZID=America/Chicago:20261127T190000
DTSTAMP:20260424T002556
CREATED:20260109T164847Z
LAST-MODIFIED:20260109T165210Z
UID:10001757-1795806000-1795806000@visitfoley.com
SUMMARY:Brandon Styles MAGIC SHOW
DESCRIPTION:The Brandon Styles COMEDY MAGIC Show is filled with a variety of magic tricks\, both big and small\, that will astonish and entertain you. This show is designed to make you laugh and leave you in awe. There are plenty of opportunities for audience participation\, and fun props are used to create a lively and enjoyable experience for everyone. Make sure you don’t miss Alabama’s only magic show! \nActivity Highlights\n→ World competition award-winning magician\n→ Great for families & children\n→ Indoor seating\n→ Audience participation\n→ *Exclusive discounts to participating restaurants at OWA (these offers will be included with your email ticket confirmation.)
URL:https://visitfoley.com/event/brandon-styles-magic-show-2/2026-11-27/
LOCATION:Brandon Styles Theater\, 101H OWA Blvd.\, Foley\, AL\, 36535\, United States
CATEGORIES:Comedy,Indoor,OWA
ATTACH;FMTTYPE=image/jpeg:https://visitfoley.com/wp-content/uploads/brandon-styles-magic-show-event.jpg
END:VEVENT
BEGIN:VEVENT
DTSTART;TZID=America/Chicago:20261128T190000
DTEND;TZID=America/Chicago:20261128T203000
DTSTAMP:20260424T002556
CREATED:20250107T192001Z
LAST-MODIFIED:20260109T164045Z
UID:10001685-1795892400-1795897800@visitfoley.com
SUMMARY:Brandon Styles Variety Show
DESCRIPTION:Don’t miss your chance to see Gulf Coast’s #1 Variety Show Every Tuesday & Saturday at 7:00 pm! \nThe Brandon Styles VARIETY SHOW is a performance by one man that you won’t want to miss! Get ready to be amazed by Brandon’s live performance\, where he impersonates nearly 60 different famous people\, from Frank Sinatra to Justin Bieber. This show is unique because Brandon has added just the right amount of comedy\, magic\, dancing\, ventriloquism\, and audience participation to keep you entertained in a fast-paced 70-minute show! \nActivity Highlights\n→ Professional impressions from a Vegas-trained talent\n→ World competition award-winning magician\n→ Great for families or a date-night\n→ Indoor seating\n→ Audience participation\n→ *Exclusive discounts to participating restaurants at OWA (these offers will be included in your email ticket confirmation.)
URL:https://visitfoley.com/event/brandon-styles-variety-show-2/2026-11-28/
LOCATION:Brandon Styles Theater\, 101H OWA Blvd.\, Foley\, AL\, 36535\, United States
CATEGORIES:Comedy,Family,OWA
ATTACH;FMTTYPE=image/jpeg:https://visitfoley.com/wp-content/uploads/Variety-Show-Website-Graphic-768x576-1-e1709234678351.jpg
END:VEVENT
BEGIN:VEVENT
DTSTART;TZID=America/Chicago:20261201T190000
DTEND;TZID=America/Chicago:20261201T203000
DTSTAMP:20260424T002556
CREATED:20250107T192001Z
LAST-MODIFIED:20260109T164045Z
UID:10001735-1796151600-1796157000@visitfoley.com
SUMMARY:Brandon Styles Variety Show
DESCRIPTION:Don’t miss your chance to see Gulf Coast’s #1 Variety Show Every Tuesday & Saturday at 7:00 pm! \nThe Brandon Styles VARIETY SHOW is a performance by one man that you won’t want to miss! Get ready to be amazed by Brandon’s live performance\, where he impersonates nearly 60 different famous people\, from Frank Sinatra to Justin Bieber. This show is unique because Brandon has added just the right amount of comedy\, magic\, dancing\, ventriloquism\, and audience participation to keep you entertained in a fast-paced 70-minute show! \nActivity Highlights\n→ Professional impressions from a Vegas-trained talent\n→ World competition award-winning magician\n→ Great for families or a date-night\n→ Indoor seating\n→ Audience participation\n→ *Exclusive discounts to participating restaurants at OWA (these offers will be included in your email ticket confirmation.)
URL:https://visitfoley.com/event/brandon-styles-variety-show-2/2026-12-01/
LOCATION:Brandon Styles Theater\, 101H OWA Blvd.\, Foley\, AL\, 36535\, United States
CATEGORIES:Comedy,Family,OWA
ATTACH;FMTTYPE=image/jpeg:https://visitfoley.com/wp-content/uploads/Variety-Show-Website-Graphic-768x576-1-e1709234678351.jpg
END:VEVENT
BEGIN:VEVENT
DTSTART;TZID=America/Chicago:20261205T190000
DTEND;TZID=America/Chicago:20261205T203000
DTSTAMP:20260424T002556
CREATED:20250107T192001Z
LAST-MODIFIED:20260109T164045Z
UID:10001686-1796497200-1796502600@visitfoley.com
SUMMARY:Brandon Styles Variety Show
DESCRIPTION:Don’t miss your chance to see Gulf Coast’s #1 Variety Show Every Tuesday & Saturday at 7:00 pm! \nThe Brandon Styles VARIETY SHOW is a performance by one man that you won’t want to miss! Get ready to be amazed by Brandon’s live performance\, where he impersonates nearly 60 different famous people\, from Frank Sinatra to Justin Bieber. This show is unique because Brandon has added just the right amount of comedy\, magic\, dancing\, ventriloquism\, and audience participation to keep you entertained in a fast-paced 70-minute show! \nActivity Highlights\n→ Professional impressions from a Vegas-trained talent\n→ World competition award-winning magician\n→ Great for families or a date-night\n→ Indoor seating\n→ Audience participation\n→ *Exclusive discounts to participating restaurants at OWA (these offers will be included in your email ticket confirmation.)
URL:https://visitfoley.com/event/brandon-styles-variety-show-2/2026-12-05/
LOCATION:Brandon Styles Theater\, 101H OWA Blvd.\, Foley\, AL\, 36535\, United States
CATEGORIES:Comedy,Family,OWA
ATTACH;FMTTYPE=image/jpeg:https://visitfoley.com/wp-content/uploads/Variety-Show-Website-Graphic-768x576-1-e1709234678351.jpg
END:VEVENT
BEGIN:VEVENT
DTSTART;TZID=America/Chicago:20261206T150000
DTEND;TZID=America/Chicago:20261206T150000
DTSTAMP:20260424T002556
CREATED:20240118T220018Z
LAST-MODIFIED:20260109T171003Z
UID:10001767-1796569200-1796569200@visitfoley.com
SUMMARY:Trip Down Memory Lane
DESCRIPTION:Join Brandon Styles on select Sundays at 3:00 pm as he transports you back in time with a captivating performance that will make you reminisce. With his magical voice\, Brandon effortlessly sings songs from the 1950s to the 1970s\, representing a variety of iconic artists such as Frank Sinatra\, Tony Bennett\, Neil Diamond\, and Louis Armstrong\, among others. It’s no wonder this show has been voted as the best date night experience on the Gulf Coast. \nThis show is family-friendly and there are no dress codes or age restrictions.
URL:https://visitfoley.com/event/trip-down-memory-lane/2026-12-06/
LOCATION:Brandon Styles Theater\, 101H OWA Blvd.\, Foley\, AL\, 36535\, United States
CATEGORIES:Comedy,OWA,Theater
ATTACH;FMTTYPE=image/jpeg:https://visitfoley.com/wp-content/uploads/TDML-Website-Thumb-e1709675367696.jpg
END:VEVENT
BEGIN:VEVENT
DTSTART;TZID=America/Chicago:20261208T190000
DTEND;TZID=America/Chicago:20261208T203000
DTSTAMP:20260424T002556
CREATED:20250107T192001Z
LAST-MODIFIED:20260109T164045Z
UID:10001736-1796756400-1796761800@visitfoley.com
SUMMARY:Brandon Styles Variety Show
DESCRIPTION:Don’t miss your chance to see Gulf Coast’s #1 Variety Show Every Tuesday & Saturday at 7:00 pm! \nThe Brandon Styles VARIETY SHOW is a performance by one man that you won’t want to miss! Get ready to be amazed by Brandon’s live performance\, where he impersonates nearly 60 different famous people\, from Frank Sinatra to Justin Bieber. This show is unique because Brandon has added just the right amount of comedy\, magic\, dancing\, ventriloquism\, and audience participation to keep you entertained in a fast-paced 70-minute show! \nActivity Highlights\n→ Professional impressions from a Vegas-trained talent\n→ World competition award-winning magician\n→ Great for families or a date-night\n→ Indoor seating\n→ Audience participation\n→ *Exclusive discounts to participating restaurants at OWA (these offers will be included in your email ticket confirmation.)
URL:https://visitfoley.com/event/brandon-styles-variety-show-2/2026-12-08/
LOCATION:Brandon Styles Theater\, 101H OWA Blvd.\, Foley\, AL\, 36535\, United States
CATEGORIES:Comedy,Family,OWA
ATTACH;FMTTYPE=image/jpeg:https://visitfoley.com/wp-content/uploads/Variety-Show-Website-Graphic-768x576-1-e1709234678351.jpg
END:VEVENT
BEGIN:VEVENT
DTSTART;TZID=America/Chicago:20261212T190000
DTEND;TZID=America/Chicago:20261212T203000
DTSTAMP:20260424T002556
CREATED:20250107T192001Z
LAST-MODIFIED:20260109T164045Z
UID:10001687-1797102000-1797107400@visitfoley.com
SUMMARY:Brandon Styles Variety Show
DESCRIPTION:Don’t miss your chance to see Gulf Coast’s #1 Variety Show Every Tuesday & Saturday at 7:00 pm! \nThe Brandon Styles VARIETY SHOW is a performance by one man that you won’t want to miss! Get ready to be amazed by Brandon’s live performance\, where he impersonates nearly 60 different famous people\, from Frank Sinatra to Justin Bieber. This show is unique because Brandon has added just the right amount of comedy\, magic\, dancing\, ventriloquism\, and audience participation to keep you entertained in a fast-paced 70-minute show! \nActivity Highlights\n→ Professional impressions from a Vegas-trained talent\n→ World competition award-winning magician\n→ Great for families or a date-night\n→ Indoor seating\n→ Audience participation\n→ *Exclusive discounts to participating restaurants at OWA (these offers will be included in your email ticket confirmation.)
URL:https://visitfoley.com/event/brandon-styles-variety-show-2/2026-12-12/
LOCATION:Brandon Styles Theater\, 101H OWA Blvd.\, Foley\, AL\, 36535\, United States
CATEGORIES:Comedy,Family,OWA
ATTACH;FMTTYPE=image/jpeg:https://visitfoley.com/wp-content/uploads/Variety-Show-Website-Graphic-768x576-1-e1709234678351.jpg
END:VEVENT
BEGIN:VEVENT
DTSTART;TZID=America/Chicago:20261215T190000
DTEND;TZID=America/Chicago:20261215T203000
DTSTAMP:20260424T002556
CREATED:20250107T192001Z
LAST-MODIFIED:20260109T164045Z
UID:10001737-1797361200-1797366600@visitfoley.com
SUMMARY:Brandon Styles Variety Show
DESCRIPTION:Don’t miss your chance to see Gulf Coast’s #1 Variety Show Every Tuesday & Saturday at 7:00 pm! \nThe Brandon Styles VARIETY SHOW is a performance by one man that you won’t want to miss! Get ready to be amazed by Brandon’s live performance\, where he impersonates nearly 60 different famous people\, from Frank Sinatra to Justin Bieber. This show is unique because Brandon has added just the right amount of comedy\, magic\, dancing\, ventriloquism\, and audience participation to keep you entertained in a fast-paced 70-minute show! \nActivity Highlights\n→ Professional impressions from a Vegas-trained talent\n→ World competition award-winning magician\n→ Great for families or a date-night\n→ Indoor seating\n→ Audience participation\n→ *Exclusive discounts to participating restaurants at OWA (these offers will be included in your email ticket confirmation.)
URL:https://visitfoley.com/event/brandon-styles-variety-show-2/2026-12-15/
LOCATION:Brandon Styles Theater\, 101H OWA Blvd.\, Foley\, AL\, 36535\, United States
CATEGORIES:Comedy,Family,OWA
ATTACH;FMTTYPE=image/jpeg:https://visitfoley.com/wp-content/uploads/Variety-Show-Website-Graphic-768x576-1-e1709234678351.jpg
END:VEVENT
BEGIN:VEVENT
DTSTART;TZID=America/Chicago:20261219T190000
DTEND;TZID=America/Chicago:20261219T203000
DTSTAMP:20260424T002556
CREATED:20250107T192001Z
LAST-MODIFIED:20260109T164045Z
UID:10001688-1797706800-1797712200@visitfoley.com
SUMMARY:Brandon Styles Variety Show
DESCRIPTION:Don’t miss your chance to see Gulf Coast’s #1 Variety Show Every Tuesday & Saturday at 7:00 pm! \nThe Brandon Styles VARIETY SHOW is a performance by one man that you won’t want to miss! Get ready to be amazed by Brandon’s live performance\, where he impersonates nearly 60 different famous people\, from Frank Sinatra to Justin Bieber. This show is unique because Brandon has added just the right amount of comedy\, magic\, dancing\, ventriloquism\, and audience participation to keep you entertained in a fast-paced 70-minute show! \nActivity Highlights\n→ Professional impressions from a Vegas-trained talent\n→ World competition award-winning magician\n→ Great for families or a date-night\n→ Indoor seating\n→ Audience participation\n→ *Exclusive discounts to participating restaurants at OWA (these offers will be included in your email ticket confirmation.)
URL:https://visitfoley.com/event/brandon-styles-variety-show-2/2026-12-19/
LOCATION:Brandon Styles Theater\, 101H OWA Blvd.\, Foley\, AL\, 36535\, United States
CATEGORIES:Comedy,Family,OWA
ATTACH;FMTTYPE=image/jpeg:https://visitfoley.com/wp-content/uploads/Variety-Show-Website-Graphic-768x576-1-e1709234678351.jpg
END:VEVENT
BEGIN:VEVENT
DTSTART;TZID=America/Chicago:20261220T150000
DTEND;TZID=America/Chicago:20261220T150000
DTSTAMP:20260424T002556
CREATED:20240118T220018Z
LAST-MODIFIED:20260109T171003Z
UID:10001768-1797778800-1797778800@visitfoley.com
SUMMARY:Trip Down Memory Lane
DESCRIPTION:Join Brandon Styles on select Sundays at 3:00 pm as he transports you back in time with a captivating performance that will make you reminisce. With his magical voice\, Brandon effortlessly sings songs from the 1950s to the 1970s\, representing a variety of iconic artists such as Frank Sinatra\, Tony Bennett\, Neil Diamond\, and Louis Armstrong\, among others. It’s no wonder this show has been voted as the best date night experience on the Gulf Coast. \nThis show is family-friendly and there are no dress codes or age restrictions.
URL:https://visitfoley.com/event/trip-down-memory-lane/2026-12-20/
LOCATION:Brandon Styles Theater\, 101H OWA Blvd.\, Foley\, AL\, 36535\, United States
CATEGORIES:Comedy,OWA,Theater
ATTACH;FMTTYPE=image/jpeg:https://visitfoley.com/wp-content/uploads/TDML-Website-Thumb-e1709675367696.jpg
END:VEVENT
BEGIN:VEVENT
DTSTART;TZID=America/Chicago:20261222T190000
DTEND;TZID=America/Chicago:20261222T203000
DTSTAMP:20260424T002556
CREATED:20250107T192001Z
LAST-MODIFIED:20260109T164045Z
UID:10001738-1797966000-1797971400@visitfoley.com
SUMMARY:Brandon Styles Variety Show
DESCRIPTION:Don’t miss your chance to see Gulf Coast’s #1 Variety Show Every Tuesday & Saturday at 7:00 pm! \nThe Brandon Styles VARIETY SHOW is a performance by one man that you won’t want to miss! Get ready to be amazed by Brandon’s live performance\, where he impersonates nearly 60 different famous people\, from Frank Sinatra to Justin Bieber. This show is unique because Brandon has added just the right amount of comedy\, magic\, dancing\, ventriloquism\, and audience participation to keep you entertained in a fast-paced 70-minute show! \nActivity Highlights\n→ Professional impressions from a Vegas-trained talent\n→ World competition award-winning magician\n→ Great for families or a date-night\n→ Indoor seating\n→ Audience participation\n→ *Exclusive discounts to participating restaurants at OWA (these offers will be included in your email ticket confirmation.)
URL:https://visitfoley.com/event/brandon-styles-variety-show-2/2026-12-22/
LOCATION:Brandon Styles Theater\, 101H OWA Blvd.\, Foley\, AL\, 36535\, United States
CATEGORIES:Comedy,Family,OWA
ATTACH;FMTTYPE=image/jpeg:https://visitfoley.com/wp-content/uploads/Variety-Show-Website-Graphic-768x576-1-e1709234678351.jpg
END:VEVENT
BEGIN:VEVENT
DTSTART;TZID=America/Chicago:20261223T190000
DTEND;TZID=America/Chicago:20261223T190000
DTSTAMP:20260424T002556
CREATED:20260109T164847Z
LAST-MODIFIED:20260109T165210Z
UID:10001758-1798052400-1798052400@visitfoley.com
SUMMARY:Brandon Styles MAGIC SHOW
DESCRIPTION:The Brandon Styles COMEDY MAGIC Show is filled with a variety of magic tricks\, both big and small\, that will astonish and entertain you. This show is designed to make you laugh and leave you in awe. There are plenty of opportunities for audience participation\, and fun props are used to create a lively and enjoyable experience for everyone. Make sure you don’t miss Alabama’s only magic show! \nActivity Highlights\n→ World competition award-winning magician\n→ Great for families & children\n→ Indoor seating\n→ Audience participation\n→ *Exclusive discounts to participating restaurants at OWA (these offers will be included with your email ticket confirmation.)
URL:https://visitfoley.com/event/brandon-styles-magic-show-2/2026-12-23/
LOCATION:Brandon Styles Theater\, 101H OWA Blvd.\, Foley\, AL\, 36535\, United States
CATEGORIES:Comedy,Indoor,OWA
ATTACH;FMTTYPE=image/jpeg:https://visitfoley.com/wp-content/uploads/brandon-styles-magic-show-event.jpg
END:VEVENT
BEGIN:VEVENT
DTSTART;TZID=America/Chicago:20261226T190000
DTEND;TZID=America/Chicago:20261226T203000
DTSTAMP:20260424T002556
CREATED:20250107T192001Z
LAST-MODIFIED:20260109T164045Z
UID:10001689-1798311600-1798317000@visitfoley.com
SUMMARY:Brandon Styles Variety Show
DESCRIPTION:Don’t miss your chance to see Gulf Coast’s #1 Variety Show Every Tuesday & Saturday at 7:00 pm! \nThe Brandon Styles VARIETY SHOW is a performance by one man that you won’t want to miss! Get ready to be amazed by Brandon’s live performance\, where he impersonates nearly 60 different famous people\, from Frank Sinatra to Justin Bieber. This show is unique because Brandon has added just the right amount of comedy\, magic\, dancing\, ventriloquism\, and audience participation to keep you entertained in a fast-paced 70-minute show! \nActivity Highlights\n→ Professional impressions from a Vegas-trained talent\n→ World competition award-winning magician\n→ Great for families or a date-night\n→ Indoor seating\n→ Audience participation\n→ *Exclusive discounts to participating restaurants at OWA (these offers will be included in your email ticket confirmation.)
URL:https://visitfoley.com/event/brandon-styles-variety-show-2/2026-12-26/
LOCATION:Brandon Styles Theater\, 101H OWA Blvd.\, Foley\, AL\, 36535\, United States
CATEGORIES:Comedy,Family,OWA
ATTACH;FMTTYPE=image/jpeg:https://visitfoley.com/wp-content/uploads/Variety-Show-Website-Graphic-768x576-1-e1709234678351.jpg
END:VEVENT
BEGIN:VEVENT
DTSTART;TZID=America/Chicago:20261229T190000
DTEND;TZID=America/Chicago:20261229T203000
DTSTAMP:20260424T002556
CREATED:20250107T192001Z
LAST-MODIFIED:20260109T164045Z
UID:10001739-1798570800-1798576200@visitfoley.com
SUMMARY:Brandon Styles Variety Show
DESCRIPTION:Don’t miss your chance to see Gulf Coast’s #1 Variety Show Every Tuesday & Saturday at 7:00 pm! \nThe Brandon Styles VARIETY SHOW is a performance by one man that you won’t want to miss! Get ready to be amazed by Brandon’s live performance\, where he impersonates nearly 60 different famous people\, from Frank Sinatra to Justin Bieber. This show is unique because Brandon has added just the right amount of comedy\, magic\, dancing\, ventriloquism\, and audience participation to keep you entertained in a fast-paced 70-minute show! \nActivity Highlights\n→ Professional impressions from a Vegas-trained talent\n→ World competition award-winning magician\n→ Great for families or a date-night\n→ Indoor seating\n→ Audience participation\n→ *Exclusive discounts to participating restaurants at OWA (these offers will be included in your email ticket confirmation.)
URL:https://visitfoley.com/event/brandon-styles-variety-show-2/2026-12-29/
LOCATION:Brandon Styles Theater\, 101H OWA Blvd.\, Foley\, AL\, 36535\, United States
CATEGORIES:Comedy,Family,OWA
ATTACH;FMTTYPE=image/jpeg:https://visitfoley.com/wp-content/uploads/Variety-Show-Website-Graphic-768x576-1-e1709234678351.jpg
END:VEVENT
BEGIN:VEVENT
DTSTART;TZID=America/Chicago:20261230T190000
DTEND;TZID=America/Chicago:20261230T190000
DTSTAMP:20260424T002556
CREATED:20260109T164847Z
LAST-MODIFIED:20260109T165210Z
UID:10001759-1798657200-1798657200@visitfoley.com
SUMMARY:Brandon Styles MAGIC SHOW
DESCRIPTION:The Brandon Styles COMEDY MAGIC Show is filled with a variety of magic tricks\, both big and small\, that will astonish and entertain you. This show is designed to make you laugh and leave you in awe. There are plenty of opportunities for audience participation\, and fun props are used to create a lively and enjoyable experience for everyone. Make sure you don’t miss Alabama’s only magic show! \nActivity Highlights\n→ World competition award-winning magician\n→ Great for families & children\n→ Indoor seating\n→ Audience participation\n→ *Exclusive discounts to participating restaurants at OWA (these offers will be included with your email ticket confirmation.)
URL:https://visitfoley.com/event/brandon-styles-magic-show-2/2026-12-30/
LOCATION:Brandon Styles Theater\, 101H OWA Blvd.\, Foley\, AL\, 36535\, United States
CATEGORIES:Comedy,Indoor,OWA
ATTACH;FMTTYPE=image/jpeg:https://visitfoley.com/wp-content/uploads/brandon-styles-magic-show-event.jpg
END:VEVENT
END:VCALENDAR