BEGIN:VCALENDAR
VERSION:2.0
PRODID:-//Visit Foley - ECPv6.15.20//NONSGML v1.0//EN
CALSCALE:GREGORIAN
METHOD:PUBLISH
X-WR-CALNAME:Visit Foley
X-ORIGINAL-URL:https://visitfoley.com
X-WR-CALDESC:Events for Visit Foley
REFRESH-INTERVAL;VALUE=DURATION:PT1H
X-Robots-Tag:noindex
X-PUBLISHED-TTL:PT1H
BEGIN:VTIMEZONE
TZID:America/Chicago
BEGIN:DAYLIGHT
TZOFFSETFROM:-0600
TZOFFSETTO:-0500
TZNAME:CDT
DTSTART:20250309T080000
END:DAYLIGHT
BEGIN:STANDARD
TZOFFSETFROM:-0500
TZOFFSETTO:-0600
TZNAME:CST
DTSTART:20251102T070000
END:STANDARD
BEGIN:DAYLIGHT
TZOFFSETFROM:-0600
TZOFFSETTO:-0500
TZNAME:CDT
DTSTART:20260308T080000
END:DAYLIGHT
BEGIN:STANDARD
TZOFFSETFROM:-0500
TZOFFSETTO:-0600
TZNAME:CST
DTSTART:20261101T070000
END:STANDARD
BEGIN:DAYLIGHT
TZOFFSETFROM:-0600
TZOFFSETTO:-0500
TZNAME:CDT
DTSTART:20270314T080000
END:DAYLIGHT
BEGIN:STANDARD
TZOFFSETFROM:-0500
TZOFFSETTO:-0600
TZNAME:CST
DTSTART:20271107T070000
END:STANDARD
END:VTIMEZONE
BEGIN:VEVENT
DTSTART;TZID=America/Chicago:20260425T190000
DTEND;TZID=America/Chicago:20260425T203000
DTSTAMP:20260423T082507
CREATED:20250107T192001Z
LAST-MODIFIED:20260109T164045Z
UID:10001656-1777143600-1777149000@visitfoley.com
SUMMARY:Brandon Styles Variety Show
DESCRIPTION:Don’t miss your chance to see Gulf Coast’s #1 Variety Show Every Tuesday & Saturday at 7:00 pm! \nThe Brandon Styles VARIETY SHOW is a performance by one man that you won’t want to miss! Get ready to be amazed by Brandon’s live performance\, where he impersonates nearly 60 different famous people\, from Frank Sinatra to Justin Bieber. This show is unique because Brandon has added just the right amount of comedy\, magic\, dancing\, ventriloquism\, and audience participation to keep you entertained in a fast-paced 70-minute show! \nActivity Highlights\n→ Professional impressions from a Vegas-trained talent\n→ World competition award-winning magician\n→ Great for families or a date-night\n→ Indoor seating\n→ Audience participation\n→ *Exclusive discounts to participating restaurants at OWA (these offers will be included in your email ticket confirmation.)
URL:https://visitfoley.com/event/brandon-styles-variety-show-2/2026-04-25/
LOCATION:Brandon Styles Theater\, 101H OWA Blvd.\, Foley\, AL\, 36535\, United States
CATEGORIES:Comedy,Family,OWA
ATTACH;FMTTYPE=image/jpeg:https://visitfoley.com/wp-content/uploads/Variety-Show-Website-Graphic-768x576-1-e1709234678351.jpg
END:VEVENT
BEGIN:VEVENT
DTSTART;TZID=America/Chicago:20260428T190000
DTEND;TZID=America/Chicago:20260428T203000
DTSTAMP:20260423T082507
CREATED:20250107T192001Z
LAST-MODIFIED:20260109T164045Z
UID:10001705-1777402800-1777408200@visitfoley.com
SUMMARY:Brandon Styles Variety Show
DESCRIPTION:Don’t miss your chance to see Gulf Coast’s #1 Variety Show Every Tuesday & Saturday at 7:00 pm! \nThe Brandon Styles VARIETY SHOW is a performance by one man that you won’t want to miss! Get ready to be amazed by Brandon’s live performance\, where he impersonates nearly 60 different famous people\, from Frank Sinatra to Justin Bieber. This show is unique because Brandon has added just the right amount of comedy\, magic\, dancing\, ventriloquism\, and audience participation to keep you entertained in a fast-paced 70-minute show! \nActivity Highlights\n→ Professional impressions from a Vegas-trained talent\n→ World competition award-winning magician\n→ Great for families or a date-night\n→ Indoor seating\n→ Audience participation\n→ *Exclusive discounts to participating restaurants at OWA (these offers will be included in your email ticket confirmation.)
URL:https://visitfoley.com/event/brandon-styles-variety-show-2/2026-04-28/
LOCATION:Brandon Styles Theater\, 101H OWA Blvd.\, Foley\, AL\, 36535\, United States
CATEGORIES:Comedy,Family,OWA
ATTACH;FMTTYPE=image/jpeg:https://visitfoley.com/wp-content/uploads/Variety-Show-Website-Graphic-768x576-1-e1709234678351.jpg
END:VEVENT
END:VCALENDAR