BEGIN:VCALENDAR
VERSION:2.0
PRODID:-//Visit Foley - ECPv6.15.20//NONSGML v1.0//EN
CALSCALE:GREGORIAN
METHOD:PUBLISH
X-WR-CALNAME:Visit Foley
X-ORIGINAL-URL:https://visitfoley.com
X-WR-CALDESC:Events for Visit Foley
REFRESH-INTERVAL;VALUE=DURATION:PT1H
X-Robots-Tag:noindex
X-PUBLISHED-TTL:PT1H
BEGIN:VTIMEZONE
TZID:America/Chicago
BEGIN:DAYLIGHT
TZOFFSETFROM:-0600
TZOFFSETTO:-0500
TZNAME:CDT
DTSTART:20240310T080000
END:DAYLIGHT
BEGIN:STANDARD
TZOFFSETFROM:-0500
TZOFFSETTO:-0600
TZNAME:CST
DTSTART:20241103T070000
END:STANDARD
BEGIN:DAYLIGHT
TZOFFSETFROM:-0600
TZOFFSETTO:-0500
TZNAME:CDT
DTSTART:20250309T080000
END:DAYLIGHT
BEGIN:STANDARD
TZOFFSETFROM:-0500
TZOFFSETTO:-0600
TZNAME:CST
DTSTART:20251102T070000
END:STANDARD
BEGIN:DAYLIGHT
TZOFFSETFROM:-0600
TZOFFSETTO:-0500
TZNAME:CDT
DTSTART:20260308T080000
END:DAYLIGHT
BEGIN:STANDARD
TZOFFSETFROM:-0500
TZOFFSETTO:-0600
TZNAME:CST
DTSTART:20261101T070000
END:STANDARD
END:VTIMEZONE
BEGIN:VEVENT
DTSTART;TZID=America/Chicago:20251016T170000
DTEND;TZID=America/Chicago:20251016T170000
DTSTAMP:20260424T095313
CREATED:20250922T211933Z
LAST-MODIFIED:20250922T211933Z
UID:10001245-1760634000-1760634000@visitfoley.com
SUMMARY:40 Years of Mick Foley
DESCRIPTION:Wrestling’s finest storyteller is back with his first one-man-show tour in three years. \nMick has assembled a brand new show featuring stories from throughout his legendary career – and each show concludes with a 45 minute Q&A. \nFeaturing Mick’s trademark blend of warmth and wildness\, wit and wisdom\, this show is sure to be a hit for the legion of Foley fans out there. ONLY 25 US SHOWS IN 2025 – so make sure to get yours now!
URL:https://visitfoley.com/event/40-years-of-mick-foley/
LOCATION:Foley Civic Center\, 407 E. Laurel Ave.\, Foley\, AL\, 36535\, United States
CATEGORIES:Comedy,Indoor
ATTACH;FMTTYPE=image/png:https://visitfoley.com/wp-content/uploads/40yearsbanner-e1758575922273.png
END:VEVENT
END:VCALENDAR