BEGIN:VCALENDAR
VERSION:2.0
PRODID:-//Visit Foley - ECPv6.15.20//NONSGML v1.0//EN
CALSCALE:GREGORIAN
METHOD:PUBLISH
X-WR-CALNAME:Visit Foley
X-ORIGINAL-URL:https://visitfoley.com
X-WR-CALDESC:Events for Visit Foley
REFRESH-INTERVAL;VALUE=DURATION:PT1H
X-Robots-Tag:noindex
X-PUBLISHED-TTL:PT1H
BEGIN:VTIMEZONE
TZID:America/Chicago
BEGIN:DAYLIGHT
TZOFFSETFROM:-0600
TZOFFSETTO:-0500
TZNAME:CDT
DTSTART:20240310T080000
END:DAYLIGHT
BEGIN:STANDARD
TZOFFSETFROM:-0500
TZOFFSETTO:-0600
TZNAME:CST
DTSTART:20241103T070000
END:STANDARD
BEGIN:DAYLIGHT
TZOFFSETFROM:-0600
TZOFFSETTO:-0500
TZNAME:CDT
DTSTART:20250309T080000
END:DAYLIGHT
BEGIN:STANDARD
TZOFFSETFROM:-0500
TZOFFSETTO:-0600
TZNAME:CST
DTSTART:20251102T070000
END:STANDARD
BEGIN:DAYLIGHT
TZOFFSETFROM:-0600
TZOFFSETTO:-0500
TZNAME:CDT
DTSTART:20260308T080000
END:DAYLIGHT
BEGIN:STANDARD
TZOFFSETFROM:-0500
TZOFFSETTO:-0600
TZNAME:CST
DTSTART:20261101T070000
END:STANDARD
END:VTIMEZONE
BEGIN:VEVENT
DTSTART;TZID=America/Chicago:20250919T193000
DTEND;TZID=America/Chicago:20250919T193000
DTSTAMP:20260424T113845
CREATED:20250902T151350Z
LAST-MODIFIED:20251205T185411Z
UID:10001117-1758310200-1758310200@visitfoley.com
SUMMARY:The Boardinghouse
DESCRIPTION:Presented by the South Baldwin Community Theatre. In this zany comedy by Vern Harden\, a cozy little boardinghouse becomes the epicenter of eccentricity and intrigue. As unusual guests arrive and mysterious events unfold\, laughs abound and secrets come to light. From amateur mediums to treasure hunters\, every resident has something to hide—and something to discover!
URL:https://visitfoley.com/event/the-boardinghouse/
LOCATION:South Baldwin Community Theatre\, 2022 W. 2nd St.\, Gulf Shores\, 36535\, United States
CATEGORIES:Comedy,Indoor,Theater
ATTACH;FMTTYPE=image/jpeg:https://visitfoley.com/wp-content/uploads/165846_event_md_861-e1756825997989.jpg
END:VEVENT
END:VCALENDAR